Workbook
Name Button_1: "DRUKI_dr_obsad_Lista"
Name DRUKI_dr_obsad_Lista: #REF!
Name FUNKCYJN_Pr_Rej__Lista: 'Prok. Rej.'!$A$1:$D$118
Name FUNKCYJN_Pr_Rej__Lista: #REF!
Name FUNKCYJN_Pr_Rej__Lista: #REF!
Name r_a_z_e_m: #REF!
Name r_a_z_e_m: #REF!
Name r_a_z_e_m: #REF!

Sheet Prokuratorzy Reg. i ich Zastępc
A1: Prokuratura Regionalna | B1: Prokurator Regionalny | C1: Stanowisko | D1: Nr telefonu służbowego | E1: p.o./p.f. | F1: Zastępca Prokuratora Regionalnego | G1: Stanowisko | H1: Nr telefonu służbowego | I1: p.o./p.f.
A2: Białystok | B2: ='Prokurator Reg.'!B3 -> Marek Tadeusz | C2: ='Prokurator Reg.'!C3 -> PPRG | D2: ='Prokurator Reg.'!#REF! -> #REF! | E2: ='Prokurator Reg.'!D3 -> p.o. | F2: =' Z-ca Prokuratora Reg. '!B3 -> Szpiczko Zbigniew | G2: =' Z-ca Prokuratora Reg. '!C3 -> PPRG | H2: =' Z-ca Prokuratora Reg. '!#REF! -> #REF! | I2: =' Z-ca Prokuratora Reg. '!D3 -> p.o.
A4: Gdańsk | B4: ='Prokurator Reg.'!B4 -> Pik Paweł | C4: ='Prokurator Reg.'!C4 -> PPRG | D4: ='Prokurator Reg.'!#REF! -> #REF! | E4: ='Prokurator Reg.'!D4 -> p.o. | F4: =' Z-ca Prokuratora Reg. '!B4 -> Turzyńska-Schulz Urszula | G4: =' Z-ca Prokuratora Reg. '!C4 -> PPO | H4: =' Z-ca Prokuratora Reg. '!#REF! -> #REF! | I4: =' Z-ca Prokuratora Reg. '!D4 -> p.o.
F5: =' Z-ca Prokuratora Reg. '!B5 -> Wolicki-Wolszleger Jerzy | G5: =' Z-ca Prokuratora Reg. '!C5 -> PPO | H5: =' Z-ca Prokuratora Reg. '!#REF! -> #REF! | I5: =' Z-ca Prokuratora Reg. '!D5 -> p.o.
A6: Katowice | B6: ='Prokurator Reg.'!B5 -> Cema Jakub | C6: ='Prokurator Reg.'!C5 -> PPRG | D6: ='Prokurator Reg.'!#REF! -> #REF! | E6: ='Prokurator Reg.'!D5 -> p.o. | F6: =' Z-ca Prokuratora Reg. '!B6 -> Antoniak-Drożdż Aleksandra | G6: =' Z-ca Prokuratora Reg. '!C6 -> PPO | H6: =' Z-ca Prokuratora Reg. '!#REF! -> #REF! | I6: =' Z-ca Prokuratora Reg. '!D6 -> p.o.
F7: =' Z-ca Prokuratora Reg. '!B7 -> Binkiewicz Michał | G7: =' Z-ca Prokuratora Reg. '!C7 -> PPO | H7: =' Z-ca Prokuratora Reg. '!#REF! -> #REF! | I7: =' Z-ca Prokuratora Reg. '!D7 -> p.o.
A8: Kraków | B8: ='Prokurator Reg.'!B6 -> Niezgoda Piotr | C8: ='Prokurator Reg.'!C6 -> PPK | D8: ='Prokurator Reg.'!#REF! -> #REF! | E8: ='Prokurator Reg.'!D6 -> p.o. | F8: =' Z-ca Prokuratora Reg. '!B8 -> Kościsz Jan | G8: =' Z-ca Prokuratora Reg. '!C8 -> PPRG | H8: =' Z-ca Prokuratora Reg. '!#REF! -> #REF! | I8: =' Z-ca Prokuratora Reg. '!D8 -> p.o.
F9: =' Z-ca Prokuratora Reg. '!B9 -> Śliwa Janusz | G9: =' Z-ca Prokuratora Reg. '!C9 -> PPRG | H9: =' Z-ca Prokuratora Reg. '!#REF! -> #REF! | I9: =' Z-ca Prokuratora Reg. '!D9 -> p.o.
A10: Lublin | B10: ='Prokurator Reg.'!B7 -> Maj Cezary | C10: ='Prokurator Reg.'!C7 -> PPRG | D10: ='Prokurator Reg.'!#REF! -> #REF! | E10: ='Prokurator Reg.'!D7 -> p.o. | F10: =' Z-ca Prokuratora Reg. '!B10 -> Banach Paweł | G10: =' Z-ca Prokuratora Reg. '!C10 -> PPO | H10: =' Z-ca Prokuratora Reg. '!#REF! -> #REF! | I10: =' Z-ca Prokuratora Reg. '!D10 -> p.o.
A12: Łódź | B12: ='Prokurator Reg.'!B8 -> Sowik Dariusz | C12: ='Prokurator Reg.'!C8 -> PPRG | D12: ='Prokurator Reg.'!#REF! -> #REF! | E12: ='Prokurator Reg.'!D8 -> p.o. | F12: =' Z-ca Prokuratora Reg. '!B11 -> Gąsiorowski Robert | G12: =' Z-ca Prokuratora Reg. '!C11 -> PPRG | H12: =' Z-ca Prokuratora Reg. '!#REF! -> #REF! | I12: =' Z-ca Prokuratora Reg. '!D11 -> p.o.
A14: Poznań | B14: ='Prokurator Reg.'!B9 -> Grzeszczyk Hanna | C14: ='Prokurator Reg.'!C9 -> PPRG | D14: ='Prokurator Reg.'!#REF! -> #REF! | E14: ='Prokurator Reg.'!D9 -> p.o. | F14: =' Z-ca Prokuratora Reg. '!#REF! -> #REF! | G14: =' Z-ca Prokuratora Reg. '!#REF! -> #REF! | H14: =' Z-ca Prokuratora Reg. '!#REF! -> #REF! | I14: =' Z-ca Prokuratora Reg. '!#REF! -> #REF!
A16: Rzeszów | B16: ='Prokurator Reg.'!B10 -> Rybczak Jaromir | C16: ='Prokurator Reg.'!C10 -> PPRG | D16: ='Prokurator Reg.'!#REF! -> #REF! | E16: ='Prokurator Reg.'!D10 -> p.o. | F16: =' Z-ca Prokuratora Reg. '!B13 -> Mirecki Damian | G16: =' Z-ca Prokuratora Reg. '!C13 -> PPRG | H16: =' Z-ca Prokuratora Reg. '!#REF! -> #REF! | I16: =' Z-ca Prokuratora Reg. '!D13 -> p.o.
A18: Szczecin | B18: ='Prokurator Reg.'!B11 -> Szcześniak Wojciech | C18: ='Prokurator Reg.'!C11 -> PPO | D18: ='Prokurator Reg.'!#REF! -> #REF! | E18: ='Prokurator Reg.'!D11 -> p.o. | F18: =' Z-ca Prokuratora Reg. '!B14 -> Jezierski Mirosław | G18: =' Z-ca Prokuratora Reg. '!C14 -> PPO | H18: =' Z-ca Prokuratora Reg. '!#REF! -> #REF! | I18: =' Z-ca Prokuratora Reg. '!D14 -> p.o.
A20: Warszawa | B20: ='Prokurator Reg.'!B12 -> Adamajtys Małgorzata | C20: ='Prokurator Reg.'!C12 -> PPRG | D20: ='Prokurator Reg.'!#REF! -> #REF! | E20: ='Prokurator Reg.'!D12 -> p.o. | F20: =' Z-ca Prokuratora Reg. '!B15 -> Nowicki Tomasz | G20: =' Z-ca Prokuratora Reg. '!C15 -> PPO | H20: =' Z-ca Prokuratora Reg. '!#REF! -> #REF! | I20: =' Z-ca Prokuratora Reg. '!D15 -> p.o.
F21: =' Z-ca Prokuratora Reg. '!B16 -> Gembalczyk Katarzyna | G21: =' Z-ca Prokuratora Reg. '!C16 -> PPO | H21: =' Z-ca Prokuratora Reg. '!#REF! -> #REF! | I21: =' Z-ca Prokuratora Reg. '!D16 -> p.o.
A22: Wrocław | B22: ='Prokurator Reg.'!B13 -> Wójtowicz Piotr | C22: ='Prokurator Reg.'!C13 -> PPRG | D22: ='Prokurator Reg.'!#REF! -> #REF! | E22: ='Prokurator Reg.'!D13 -> p.o. | F22: =' Z-ca Prokuratora Reg. '!B17 -> Szyperski Dariusz | G22: =' Z-ca Prokuratora Reg. '!C17 -> PPRG | H22: =' Z-ca Prokuratora Reg. '!#REF! -> #REF! | I22: =' Z-ca Prokuratora Reg. '!D17 -> p.o.
F23: =' Z-ca Prokuratora Reg. '!B18 -> Wojciechowska Hanna | G23: =' Z-ca Prokuratora Reg. '!C18 -> PPRG | H23: =' Z-ca Prokuratora Reg. '!#REF! -> #REF! | I23: =' Z-ca Prokuratora Reg. '!D18 -> p.o.

Sheet Prokurator Reg.
A1: Wykaz Prokuratorów Regionalnych
A2: Prokuratura Regionalna | B2: Prokurator Regionalny | J2: Odwołany Prokurator Regionalny
A3: Białystok | B3: Marek Tadeusz | C3: PPRG | D3: p.o. | E3: 45349 | F3: 45530 | G3: TAK | H3: 0.8 | I3: =IF(B3="","",IF(RIGHT(B3,1)="a","k","m")) -> m | J3: Pieniążek Elżbieta
A4: Gdańsk | B4: Pik Paweł | C4: PPRG | D4: p.o. | E4: 45330 | F4: 45511 | H4: 0.8 | I4: =IF(B4="","",IF(RIGHT(B4,1)="a","k","m")) -> m | J4: Rutkowska-Szmydyńska Teresa
A5: Katowice | B5: Cema Jakub | C5: PPRG | D5: p.o. | E5: 45330 | F5: 45511 | H5: 0.85 | I5: =IF(B5="","",IF(RIGHT(B5,1)="a","k","m")) -> m | J5: Pietreczek Tomasz
A6: Kraków | B6: Niezgoda Piotr | C6: PPK | D6: p.o. | E6: 45330 | F6: 45511 | G6: TAK | H6: 0.8 | I6: =IF(B6="","",IF(RIGHT(B6,1)="a","k","m")) -> m | J6: Woźniak Marek
A7: Lublin | B7: Maj Cezary | C7: PPRG | D7: p.o. | E7: 45322 | F7: 45503 | H7: 0.85 | I7: =IF(B7="","",IF(RIGHT(B7,1)="a","k","m")) -> m | J7: Ziarkiewicz Jerzy
A8: Łódź | B8: Sowik Dariusz | C8: PPRG | D8: p.o. | E8: 45356 | F8: 45539 | G8: TAK | H8: 0.85 | I8: =IF(B8="","",IF(RIGHT(B8,1)="a","k","m")) -> m | J8: Szubert Jarosław
A9: Poznań | B9: Grzeszczyk Hanna | C9: PPRG | D9: p.o. | E9: 45330 | F9: 45511 | H9: 0.85 | I9: =IF(B9="","",IF(RIGHT(B9,1)="a","k","m")) -> k | J9: Motawski Jacek
A10: Rzeszów | B10: Rybczak Jaromir | C10: PPRG | D10: p.o. | E10: 45345 | F10: 45526 | H10: 0.85 | I10: =IF(B10="","",IF(RIGHT(B10,1)="a","k","m")) -> m | J10: Dybus Jerzy
A11: Szczecin | B11: Szcześniak Wojciech | C11: PPO | D11: p.o. | E11: 45328 | F11: 45509 | G11: TAK | H11: 0.8 | I11: =IF(B11="","",IF(RIGHT(B11,1)="a","k","m")) -> m | J11: Maludy Artur
A12: Warszawa | B12: Adamajtys Małgorzata | C12: PPRG | D12: p.o. | E12: 45323 | F12: 45504 | H12: 0.85 | I12: =IF(B12="","",IF(RIGHT(B12,1)="a","k","m")) -> k | J12: Romelczyk Jakub
A13: Wrocław | B13: Wójtowicz Piotr | C13: PPRG | D13: p.o. | E13: 45329 | F13: 45510 | H13: 0.8 | I13: =IF(B13="","",IF(RIGHT(B13,1)="a","k","m")) -> m | J13: Pęcherzewski Bartosz

Sheet  Z-ca Prokuratora Reg. 
A1: Wykaz Zastępców Prokuratorów Regionalnych | I1: Odwołani Zastępcy Prokuratorów Regionalnych
A2: Prokuratura Regionalna | B2: Zastępca Prokuratora Regionalnego | H2: Odwołany Zastępca Prokuratora Regionalnego
A3: Białystok | B3: Szpiczko Zbigniew | C3: PPRG | D3: p.o. | E3: 45433 | F3: 45616 | H3: Sawoń Paweł | K3: Sawoń Paweł | L3: p.o. 13.04.2017-12.10.2017 p.f. 13.10.2017-24.03.2024 | M3: Czeszkiewicz Marek | N3: p.o. 01.02.2017-03.04.2017 | O3: Kiszło Bożena | P3: p.o. 29.03.2016-28.06.2016 29.06.2016-28.09.2016 29.09.2016-28.12.2016 29.12.2016-31.01.2017
A4: Gdańsk | B4: Turzyńska-Schulz Urszula | C4: PPO | D4: p.o. | E4: 45363 | F4: 45546 | G4: TAK | H4: Dyczewski Daniel | K4: Dyczewski Daniel | L4: p.o. 11.06.2018-10.12.2018 11.12.2018-10.06.2019 11.06.2019-10.12.2019 11.12.2019-10.06.2020 11.06.2020-30.12.2020 p.f. 31.12.2020-11.03.2024 | M4: Gościak Kajetan | N4: p.f. 24.03.2016-10.06.2018
B5: Wolicki-Wolszleger Jerzy | C5: PPO | D5: p.o. | E5: 45390 | F5: 45572 | G5: TAK | H5: Popadiuk Małgorzata | K5: Popadiuk Małgorzata | L5: p.o. 09.07.2018-10.12.2018 11.12.2018-10.06.2019 p.f. 11.06.2019-11.03.2024 | M5: Popieniuk Dariusz | N5: p.o.11.04.2016-10.07.2016 11.07.2016-10.01.2017 p.f. 11.01.2017-10.06.2018
A6: Katowice | B6: Antoniak-Drożdż Aleksandra | C6: PPO | D6: p.o. | E6: 45377 | F6: 45560 | H6: Jaworek-Kaziród Bożena | K6: Jaworek-Kaziród Bożena | L6: p.f. 01.10.2018-25.03.2024 | M6: Roch Adam | N6: p.f. 09.03.2016-19.09.2018
B7: Binkiewicz Michał | C7: PPO | D7: p.o. | E7: 45408 | F7: 45590 | G7: TAK | H7: Sroka Leszek | I7: Sroka Leszek | J7: p.o. 01.12.2023-11.04.2024 | K7: Pietreczek Tomasz | L7: p.o. 11.03.2019-10.09.2019 p.f. 11.09.2019-22.11.2023 | M7: Ziaja Ewa | N7: p.f. 01.04.2016-01.02.2019
A8: Kraków | B8: Kościsz Jan | C8: PPRG | D8: p.o. | E8: 45370 | F8: 45553 | H8: Pijaj Krzysztof | K8: Pijaj Krzysztof | L8: p.o. 16.08.2017-15.02.2018 p.f.16.02.2018-18.03.2024 | M8: Mularczyk Wojciech | N8: p.f. 10.03.2016-15.08.2017
B9: Śliwa Janusz | C9: PPRG | D9: p.o. | E9: 45370 | F9: 45553 | H9: Kapera Barbara | K9: Kapera Barbara | L9: p.f. 10.03.2016-02.02.2024
A10: Lublin | B10: Banach Paweł | C10: PPO | D10: p.o. | E10: 45330 | F10: 45511 | G10: TAK | H10: Olszewska Dorota | K10: Olszewska Dorota | L10: p.o. 10.07.2020-07.01.2021 p.f. 08.01.2021-07.02.2024 | M10: Komotajtis Piotr | N10: p.o. 01.10.2018-31.03.2019 p.f. 01.04.2019-09.07.2020 | O10: Łyszcz Ireneusz | P10: p.o. 05.01.2017-04.07.2017 05.07.2017-04.01.2018 05.01.2017-04.01.2018 05.01.2018-04.07.2018 p.f. 05.07.2018-30.09.2018 | Q10: Komotajtis Piotr
A11: Łódź | B11: Gąsiorowski Robert | C11: PPRG | D11: p.o. | E11: 45365 | F11: 45548 | H11: Tarkowska Bogumiła | K11: Tarkowska Bogumiła | L11: p.f. 10.03.2016-13.03.2024
A12: Poznań | B12: Lewandowski Adrian | C12: PPRG | D12: p.o. | E12: 45356 | F12: 45539 | H12: Domachowski Sebastian
A13: Rzeszów | B13: Mirecki Damian | C13: PPRG | D13: p.o. | E13: 45405 | F13: 45587 | H13: Fida Adam | I13: Fida Adam | J13: p.f. 11.03.2016-22.04.2024 | K13: Romaniuk Anna | L13: zastępstwo: 05.08.2022-12.08.2022
A14: Szczecin | B14: Jezierski Mirosław | C14: PPO | D14: p.o. | E14: 45379 | F14: 45562 | G14: TAK | H14: Gołuch Adam | K14: Gołuch Adam | L14: p.o.15.12.2021-14.06.2022 p.f. 15.06.2022-18.03.2024 | M14: Lasota Michał | N14: p.o. 11.06.2018-10.12.2018 p.f. 11.12.2018-14.12.2021 | O14: Zapolnik Małgorzata | P14: p.o. 24.12.2016-23.06.2017 p.f. 24.06.2017-22.05.2018 | Q14: Mazurek Wioletta
A15: Warszawa | B15: Nowicki Tomasz | C15: PPO | D15: p.o. | E15: 45341 | F15: 45522 | G15: TAK | H15: Smoleń Wojciech | K15: Smoleń Wojciech | L15: p.o. 05.05.2020-04.11.2020 p.f. 05.11.2020-18.02.2024 | M15: Romelczyk Jakub | N15: p.o. 13.06.2018-12.12.2018 p.f. 13.12.2018-15.04.2020 | O15: Mucha-Podlewska Marzanna | P15: p.f. 09.03.2016-12.06.2018
B16: Gembalczyk Katarzyna | C16: PPO | D16: p.o. | E16: 45379 | F16: 45564 | G16: TAK | H16: Szpringer Paweł | K16: Szpringer Paweł | L16: p.o.01.07.2020-31.12.2020 p.f. 01.01.2021-22.03.2024 | M16: Maksymowicz Marek | N16: p.f. 25.04.2016-04.05.2020
A17: Wrocław | B17: Szyperski Dariusz | C17: PPRG | D17: p.o. | E17: 45338 | F17: 45519 | H17: Korczak Agnieszka | K17: Korczak Agnieszka | L17: p.o. 27.10.2020-26.04.2021 27.04.2021-26.10.2021 p.f. 27.10.2021-01.02.2024 | M17: Czopek Ireneusz | N17: p.f. 10.03.2016-26.10.2020
B18: Wojciechowska Hanna | C18: PPRG | D18: p.o. | E18: 45341 | F18: 45522 | H18: Brodzisz Dariusz | K18: Brodzisz Dariusz | L18: p.o. 27.10.2020-26.04.2021 27.04.2021-26.10.2021 p.f. 27.10.2021-01.02.2024 | M18: Duplaga Jerzy | N18: p.f. 13.10.2016-26.10.2020
U186: 44377

Sheet Prok. Okręgowi
A1: WYKAZ PROKURATORÓW OKRĘGOWYCH
A3: l.p. | B3: Region | C3: Okręg | D3: Prokurator Okręgowy | E3: Odwołany Prokurator Okręgowy
A5: 1. | B5: Białystok | C5: Białystok | D5: Żoch Mirosław | E5: Radziwonowicz Karol
A6: 2. | C6: Łomża | D6: Wilk Tomasz | E6: Bukowski Piotr
A7: 3. | C7: Olsztyn | D7: Okniński Paweł | E7: Fiertek Cezary
A8: 4. | C8: Ostrołęka | D8: Osowiecki Waldemar | E8: Łada Dorota
A9: 5. | C9: Suwałki | D9: Górnicka-Piskorska Aneta | E9: Kolesińska-Soroka Anna
A10: 6. | B10: Gdańsk | C10: Bydgoszcz | D10: Podufalski Dariusz | E10: Milewski Andrzej
A11: 7. | C11: Gdańsk | D11: Rzeźnik Michał | E11: Ryszkiewicz-Jakubowska Monika
A12: 8. | C12: Słupsk | D12: Młynarczyk Krzysztof | E12: Mądry Katarzyna
A13: 9. | C13: Toruń | D13: Janczur Ewa | E13: Krause Artur
A14: 10. | C14: Włocławek | D14: Trafny Michał | E14: Plechowska Justyna
A15: 11. | B15: Katowice | C15: Bielsko-Biała | D15: Kuklis Andrzej | E15: Łapińska Lidia
A16: 12. | C16: Częstochowa | D16: Wypych Robert | E16: Wolak Michał
A17: 13. | C17: Gliwice | D17: Topa Ilona | E17: Załóg Marcin
A18: 14. | C18: Katowice | D18: Nagrodzki Rafał | E18: Tkaczewska-Kuk Elżbieta
A19: 15. | C19: Sosnowiec | D19: Stolpa Marcin | E19: Ziobro Magdalena
A20: 16. | B20: Kraków | C20: Kielce | D20: Sokół Paweł | E20: Dryjas Dariusz
A21: 17. | C21: Kraków | D21: Grądzki Piotr | E21: Babiński Rafał
A22: 18. | C22: Nowy Sącz | D22: Starzak Waldemar | E22: Trybus Michał
A23: 19. | C23: Tarnów | D23: Wrona Artur | E23: Bara Arkadiusz
A24: 20. | B24: Lublin | C24: Lublin | D24: Trusiewicz Grzegorz | E24: Malicki Robert
A25: 21. | C25: Radom | D25: Czerwiński Robert | E25: Radecki Tomasz
A26: 22. | C26: Siedlce | D26: Czyżewski Krzysztof | E26: Romaniuk Radosław
A27: 23. | C27: Zamość | D27: Buczek Mirosław | E27: Rymarz Mariusz
A28: 24. | B28: Łódź | C28: Piotrków Trybunalski | D28: Piwowarska Jolanta | E28: Witko Magdalena
A29: 25. | C29: Płock | D29: Orkwiszewska Małgorzata | E29: Tarczyński Przemysław
A30: 26. | C30: Ostrów Wielkopolski | D30: Walczak Janusz | E30: Szymanowski Paweł
A31: 27. | B31: Poznań | C31: Konin | D31: Nienartowicz Andrzej | E31: Kudła Małgorzata
A32: 28. | C32: Poznań | D32: Duszyński Jacek | E32: Smętkowski Michał
A33: 29. | C33: Zielona Góra | D33: Kmieciak Robert | E33: Kijowski Jarosław
A34: 30. | B34: Rzeszów | C34: Krosno | D34: Ślusarska-Stopa Joanna | E34: Pelczarski Cezary
A35: 31. | C35: Przemyśl | D35: Pętkowska Marta | E35: Staszczak Jacek
A36: 32. | C36: Rzeszów | D36: Brzykowski Dariusz | E36: Lotczyk Ewa
A37: 33. | C37: Tarnobrzeg | D37: Kiliański Robert | E37: Woźnik Janusz
A38: 34. | B38: Szczecin | C38: Gorzów Wielkopolski | D38: Błaszkiewicz Paulina | E38: Leszczyńska Agnieszka
A39: 35. | C39: Koszalin | D39: Struś-Prokop Joanna | E39: Kozber Krzysztof
A40: 36. | C40: Szczecin | D40: Kułakowska-Gorczyńska Jadwiga | E40: Dobrowolski Remigiusz
A41: 37. | B41: Warszawa | C41: Warszawa | D41: Kowalik Piotr | E41: Dubowski Mariusz
A42: 38. | C42: W-wa Praga | D42: Sroczyńska Aleksandra | E42: Osiński Łukasz
...

Sheet Z-cy Prok. Okręgowych
A1: WYKAZ ZASTĘPCÓW PROKURATORÓW OKRĘGOWYCH
A3: l.p. | B3: Region | C3: Okręg | D3: Zastępca Prokuratora Okręgowego | E3: Odwołany Zastępca Prokuratora Okręgowego
A4: 1. | B4: Białystok | C4: Białystok | D4: Dąbrowska Joanna | E4: Stelmaszuk Andrzej
A5: 2. | C5: Łomża | D5: Leszczyńska Dorota | E5: Bałazy Anna
A6: 3. | C6: Olsztyn | D6: Brodowski Daniel | E6: Czerwiński Zbignierw
A7: 4. | C7: Ostrołęka | D7: Luchcińska Edyta | E7: Drewnowska Anna
A8: 5. | C8: Suwałki | D8: Piktel Wojciech | E8: Orchowska Joanna
A9: 6. | B9: Gdańsk | C9: Bydgoszcz | D9: Sienkiewicz-Mrozowska Anna | E9: Bogacz Janusz
A10: 7. | D10: Adamska-Okońska Agnieszka | E10: Głowacka Violetta
A11: 8. | C11: Gdańsk | D11: Barbarowicz Agnieszka | E11: Ropela Barbara
A12: 9. | D12: Klonowska Renata | E12: Braun Anna
A13: 10. | C13: Toruń | D13: Markuszewska-Wolfram Anna | E13: Rybszleger Maciej
A14: 11. | B14: Katowice | C14: Bielsko-Biała | D14: Jóźwiak Arkadiusz | E14: Bania Paweł
A15: 12. | C15: Gliwice | D15: Sikora Paweł | E15: Sztachelek Damian
A16: 13. | D16: Tartanus Aleksandra | E16: Skiba Krzysztof
A17: 14. | C17: Katowice | D17: Ott Artur | E17: Wszelaki Piotr
A18: 15. | D18: Stokowacki Paweł | E18: Małuch Tomasz
A19: 16. | C19: Sosnowiec | D19: Bedrijczuk Grzegorz | E19: Pirch-Mirocha Izabela
A20: 17. | B20: Kraków | C20: Kielce | D20: Sarba Jarosław | E20: Słowakiewicz Robert
A21: 18. | D21: Jagiełło Jacek | E21: Nowak Ewa
A22: 19. | C22: Kraków | D22: Kruczek Jolanta | E22: Zębala Maria
A23: 20. | C23: Nowy Sącz | D23: Górny Jacek
A24: 21. | C24: Tarnów | D24: Kumorowski Włodzimierz | E24: Moskwa Wioletta
A25: 22. | B25: Lublin | C25: Lublin | D25: Molin Mirosław | E25: Lebiedowicz Andrzej
A26: 23. | D26: Brzozowska-Fałek Dorota | E26: Siwiec Marcin
A27: 24. | C27: OZ Chełm | D27: Sołoducha Jolanta | E27: Koszuk Mariusz
A28: 25. | C28: Radom | D28: Potera Mariusz | E28: Stojak Andrzej
A29: 26. | C29: Siedlce | D29: Ławecki Tomasz | E29: Podniesińska Małgorzata
A30: 27. | C30: Zamość | D30: Kryk Grzegorz | E30: Kubik Artur
A31: 28. | B31: Łódź | C31: Ostrów Wielkopolski | D31: Leki Maciej | E31: Majchrzak Cecylia
A32: 29. | C32: Piotrków Trybunalski | D32: Mosur Anna | E32: Wróbel Mirosław
A33: 30. | C33: Płock | D33: Jackowska Joanna | E33: Mieczykowska Monika
A34: 31. | B34: Poznań | C34: Konin | D34: Lewandowska Sylwia | E34: Stupak Janusz
A35: 32. | C35: Zielona Góra | D35: Masłowska Magdalena | E35: Chrzanowski Marcin
A36: 33. | B36: Rzeszów | C36: Przemyśl | D36: Kalita Michał | E36: Starzecka Beata
A37: 34. | C37: Rzeszów | D37: Drupka Katarzyna | E37: Jarosz Arkadiusz
A38: 35. | C38: Tarnobrzeg | D38: Adamski Adam | E38: Głuszak Krzysztof
A39: 36. | B39: Szczecin | C39: Gorzów Wielkopolski | D39: Pytlińska Monika | E39: Wieczorek Andrzej
A40: 37. | C40: Koszalin | D40: Jarecka Małgorzata | E40: Stupak Artur
A41: 38. | C41: Szczecin | D41: Kozarowska Grażyna | E41: Biranowska-Sochalska Joanna
...

Sheet Prok. Rej.
A1: WYKAZ PROKURATORÓW REJONOWYCH
A3: l.p | B3: Region | C3: Okręg | D3: Rejon | E3: Prokurator Rejonowy | F3: Odwołany Prokurator Rejonowy
A5: 1. | B5: Białystok | C5: Białystok | D5: Białystok | E5: Laskowska Elwira | F5: Pietrzycka Katarzyna
A6: 2. | D6: Białystok-Południe | E6: Winnicki Marek | F6: Zalesko Wojciech
A7: 3. | D7: Białystok-Północ | E7: Mielewczyk-Olszewska Marzanna | F7: Toruński Michał
A8: 4. | D8: Hajnówka | E8: Dąbrowski Marek | F8: Andrejczuk Jan
A9: 5. | D9: Siemiatycze | E9: Martyniuk Janusz | F9: Szepietowska Magdalena
A10: 6. | D10: Sokółka | E10: Nowicka-Sztachelska Ewa | F10: Kuberski Artur
A11: 7. | C11: Łomża | D11: Łomża | E11: Kosiorek-Soboń Małgorzata | F11: Klimaszewska-Dzierżko Urszula
A12: 8. | C12: Olsztyn | D12: Olsztyn-Południe | E12: Kłosowska Joanna | F12: Syczyło Joanna
A13: 9. | C13: Suwałki | D13: Sejny | E13: Karłowicz Angelika | F13: Haraburda Rafał
A14: 10. | D14: Suwałki | E14: Kozłowska-Szmigiero Małgorzata | F14: Szóstka Krystyna
A15: 11. | B15: Gdańsk | C15: Elbląg | D15: Iława | E15: Budziejewski Piotr | F15: Wierzbicki Jan
A16: 12. | C16: Gdańsk | D16: Gdynia | E16: Stawinoga-Liedtke Dorota | F16: Piórkowska Anna
A17: 13. | C17: Słupsk | D17: Bytów | F17: Krzemianowski Ryszard
A18: 14. | C18: Toruń | D18: Golub-Dobrzyń | E18: Oskroba Przemysław | F18: Żuchowska Agnieszka
A19: 15. | D19: Toruń-Wschód | E19: Becińska Joanna | F19: Oskroba Przemysław
A20: 16. | C20: Włocławek | D20: Rypin | E20: Lasiński Jacek | F20: Olender Marek
A21: 17. | B21: Katowice | C21: Bielsko-Biała | D21: Cieszyn | E21: Hołubowicz Marcin | F21: Hołdys Andrzej
A22: 18. | D22: Żywiec | E22: Witkowski Łukasz | F22: Porzycki Maciej
A23: 19. | C23: Częstochowa | D23: Częstochowa | E23: Makuch-Jelonek Barbara | F23: Bernat Artur
A24: 20. | D24: Lubliniec | E24: Masoń Joanna | F24: Mielczarek Tomasz
A25: 21. | D25: Myszków | E25: Chowańska-Trela Anna | F25: Ziernicka-Łubianka Małgorzata
A26: 22. | C26: Gliwice | D26: Gliwice-Zachód | F26: Sikora Paweł
A27: 23. | D27: Tarnowskie Góry | E27: Rzeszut-Sieńkowska Justyna | F27: Szymocha-Żak Anna
A28: 24. | C28: Katowice | D28: Chorzów | F28: Szczepanek-Siejka Bogusława
A29: 25. | C29: Sosnowiec | D29: Jaworzno | E29: Zięba Zbigniew | F29: Nowicki Jacek
A30: 26. | D30: Sosnowiec-Południe | E30: Kabała Damian | F30: Stolpa Marcin
A31: 27. | B31: Kraków | C31: Kielce | D31: Busko-Zdrój | E31: Skorupa Anna | F31: Wodecka Aneta
A32: 28. | D32: Jędrzejów | E32: Garbacz Radosław | F32: Bukowska Ewa
A33: 29. | D33: Kielce-Wschód | E33: Pawlik-Zatońska Edyta | F33: Zielińska-Janaszek Beata
A34: 30. | D34: Kielce-Zachód | E34: Pałys-Morąg Aleksandra | F34: Kasowska-Pedrycz Katarzyna
A35: 31. | D35: Opatów | E35: Kobiec Rafał | F35: Orłowska Renata
A36: 32. | D36: Ostrowiec Świętokrzyski | E36: Zarzycka Agnieszka | F36: Skalmierski Cezary
A37: 33. | D37: Sandomierz | E37: Fołta Tomasz | F37: Religa Jolanta
A38: 34. | D38: Skarżysko-Kamienna | E38: Gicewicz Małgorzata | F38: Rurarz Tomasz
A39: 35. | D39: Starachowice | E39: Wójcik Beata | F39: Juda Eliza
A40: 36. | D40: Włoszczowa | E40: Jakubiak Mariusz | F40: Chrzan Marcin
A41: 37. | C41: Kraków | D41: Chrzanów | E41: Kowalik Marek | F41: Jopek Elżbieta
A42: 38. | D42: Kraków Śródmieście-Wschód | E42: Trzaska-Żurek Patrycja | F42: Tyżuk Małgorzata
...

Sheet Z-cy Pr.Rej.
A1: WYKAZ ZASTĘCÓW PROKURATORÓW REJONOWYCH
A3: L.p. | B3: Region | C3: Okręg | D3: Rejon | E3: Zastępca Prokuratora Rejonowego | F3: Odwołany Zastępca Prokuratora Rejonowego
A5: 1. | B5: Białystok | C5: Białystok | D5: Białystok | E5: Pianko Tomasz | F5: Laskowska Elwira
A6: 2. | C6: Łomża | D6: Grajewo | E6: Kobryń Anna | F6: Iwański Józef
A7: 3. | C7: Łomża | D7: Łomża | E7: Czaplicka Joanna | F7: Gajdamowicz Alicja
A8: 4. | C8: Gdańsk | D8: Gdańsk-Śródmieście | E8: Rużewicz-Zielińska Ariadna | F8: Witkowski Michał
A9: 5. | B9: Gdańsk | C9: Elbląg | D9: Iława | E9: Urbanowicz Anna | F9: Budziejewski Piotr
A10: 6. | C10: Słupsk | D10: Miastko | E10: Gawrych Natalia | F10: Budnik Lech
A11: 7. | B11: Katowice | C11: Bielsko-Biała | D11: Cieszyn | E11: Grosicki Piotr | F11: Hołubowicz Marcin
A12: 8. | C12: Częstochowa | D12: Częstochowa-Południe | E12: Kromołowski Bogusław | F12: Makuch-Jelonek Barbara
A13: 9. | C13: Częstochowa | D13: Częstochowa-Północ | E13: Chłond-Koziel Izabela | F13: Borkowska-Wróblewska Aleksandra
A14: 10. | C14: Częstochowa | D14: Lubliniec | E14: Droździok Krzysztof | F14: Godlewski Mariusz
A15: 11. | C15: Sosnowiec | D15: Sosnowiec-Południe | E15: Podlejski Tadeusz | F15: Kabała Damian
A16: 12. | C16: Gliwice | D16: Tarnowskie Góry | E16: Lewandowska-Smerd Magdalena
A17: 13. | B17: Kraków | C17: Kraków | D17: Kraków Śródm. Wschód - 2 Z-ców | E17: Sacha Ewa | F17: Frączek-Padoł Edyta
A18: 14. | C18: Kraków | D18: Kraków-Prądnik Biały | E18: Płeszka Maciej | F18: Łukaszewicz-Makowska Katarzyna
A19: 15. | C19: Nowy Sącz | D19: Limanowa | E19: Michura Bartłomiej | F19: Odziomek Małgorzata
A20: 16. | C20: Nowy Sącz | D20: Nowy Targ | E20: Ostrowski Łukasz | F20: Gosztyła Magdalena
A21: 17. | C21: Kielce | D21: Opatów | E21: Iwon Mariusz | F21: Sobieszkoda Agnieszka
A22: 18. | C22: Kielce | D22: Sandomierz | E22: Kaczmarski Robert | F22: Nowak Magdalena
A23: 19. | C23: Kielce | D23: Skarżysko Kamienna | E23: Snoch Adam (od 24.06.2024 r.) | F23: Gicewicz Małgorzata
A24: 20. | C24: Tarnów | D24: Tarnów | E24: Kuczek Monika | F24: Glazer-Podobińska Barbara
A25: 21. | C25: Kraków | D25: Wadowice | F25: Piątek Zbigniew
A26: 22. | B26: Lublin | C26: Zamość | D26: Biłgoraj | E26: Sowa Katarzyna | F26: Gmyz Ireneusz
A27: 23. | C27: Lublin | D27: Chełm - 2 Z-ców | E27: Kozioł Tomasz | F27: Wirtel-Mroczek Diana
A28: 24. | C28: Zamość | D28: Hrubieszów | E28: Kulesza Renata | F28: Welenczyk-Kita Magdalena
A29: 25. | C29: Zamość | D29: Janów Lubelski | E29: Leśko Michał
A30: 26. | C30: Zamość | D30: Krasnystaw | E30: Czyżewski Daniel | F30: Litwińczuk Jakub
A31: 27. | C31: Lublin | D31: Lubartów | E31: Oziembło Natalia | F31: Sokół Krzysztof
A32: 28. | C32: Lublin | D32: Lublin | E32: Korczak-Woźniak Małgorzata | F32: Zgierska-Szafranek Wioletta
A33: 29. | C33: Lublin | D33: Lublin-Południe | E33: Czekaj Katarzyna | F33: Bochen Dorota
A34: 30. | C34: Lublin | D34: Lublin-Północ | E34: Woźniak Sylwester | F34: Rafałko Zbigniew
A35: 31. | C35: Lublin | D35: Parczew | E35: Malecki Mateusz | F35: Łobacz Joanna
A36: 32. | C36: Radom | D36: Radom-Wschód | E36: Skuza Anna | F36: Gibała Monika
A37: 33. | C37: Radom | D37: Radom-Wschód | E37: Oleś Maciej | F37: Mroczkowska Dorota
A38: 34. | C38: Lublin | D38: Włodawa | E38: Karamara Konrad | F38: Hebda Tomasz
A39: 35. | C39: Zamość | D39: Zamość | E39: Pizun Ewa | F39: Rosołek Jarosław
A40: 36. | B40: Łódź | C40: Piotrków Trybunalski | D40: Piotrków Trybunalski | E40: Pawłowska Anna | F40: Polak Marcin
A41: 37. | C41: Piotrków Trybunalski | D41: Radomsko | E41: Zacharewicz Joanna | F41: Łaski Jakub
A42: 38. | C42: Ostrów Wielkopolska | D42: Krotoszyn | E42: Idaszek Ireneusz | F42: Kopczyńska Agata
...
